BEGIN:VCALENDAR
VERSION:2.0
PRODID:-//Ministerios Corazón a Corazón - ECPv6.15.20//NONSGML v1.0//EN
CALSCALE:GREGORIAN
METHOD:PUBLISH
X-ORIGINAL-URL:https://iglesiacorazonacorazon.com
X-WR-CALDESC:Events for Ministerios Corazón a Corazón
REFRESH-INTERVAL;VALUE=DURATION:PT1H
X-Robots-Tag:noindex
X-PUBLISHED-TTL:PT1H
BEGIN:VTIMEZONE
TZID:UTC
BEGIN:STANDARD
TZOFFSETFROM:+0000
TZOFFSETTO:+0000
TZNAME:UTC
DTSTART:20160101T000000
END:STANDARD
END:VTIMEZONE
BEGIN:VEVENT
DTSTART;TZID=UTC:20190803T080000
DTEND;TZID=UTC:20190803T170000
DTSTAMP:20260423T154751
CREATED:20190722T200459Z
LAST-MODIFIED:20190722T204818Z
UID:745-1564819200-1564851600@iglesiacorazonacorazon.com
SUMMARY:Beach Day  |    Día de playa
DESCRIPTION:No te pierdas este evento familiar con Ministerios Corazón a Corazón Posted by Elda Herman on Monday\, July 22\, 2019		\n		\n\n					\n									\n													Beach Day
URL:https://iglesiacorazonacorazon.com/event/beach-day-dia-de-playa/
LOCATION:Beach Corona Del Mar\, 3001 Ocean Blvd\, Corona Del Mar\, CA\, 92625\, United States
ATTACH;FMTTYPE=image/jpeg:https://iglesiacorazonacorazon.com/wp-content/uploads/2019/07/beach-day-2019.jpg
END:VEVENT
BEGIN:VEVENT
DTSTART;TZID=UTC:20190616T090000
DTEND;TZID=UTC:20190616T113000
DTSTAMP:20260423T154751
CREATED:20190527T044555Z
LAST-MODIFIED:20190527T044555Z
UID:680-1560675600-1560684600@iglesiacorazonacorazon.com
SUMMARY:Servicio Especial: Día del Padre
DESCRIPTION:No te pierdas este evento familiar con Ministerios Corazón a Corazón Posted by Elda Herman on Monday\, July 22\, 2019		\n		\n\n					\n									\n													Beach Day
URL:https://iglesiacorazonacorazon.com/event/servicio-especial-dia-del-padre/
LOCATION:Ministerios Corazón a Corazón\, 9391 Cypress Ave\, Fontana\, CA\, United States
ATTACH;FMTTYPE=image/jpeg:https://iglesiacorazonacorazon.com/wp-content/uploads/2019/05/60233889_1284379575048060_1248236483991568384_n.jpg
END:VEVENT
BEGIN:VEVENT
DTSTART;TZID=UTC:20190615T080000
DTEND;TZID=UTC:20190615T080000
DTSTAMP:20260423T154751
CREATED:20190527T042414Z
LAST-MODIFIED:20190527T042715Z
UID:674-1560585600-1560585600@iglesiacorazonacorazon.com
SUMMARY:Congreso de Mujeres: Formando Una Guerrera
DESCRIPTION:Para más información\, haga clic aquí. \nhttps://www.facebook.com/497635863722439/videos/2397599227153261/ \n\n\n				\n			\n\n		\n				\n				\n					\n\n						\n						\n							\n		\n\n			\n			\n			\n\n				\n				\n					\n\n	\n	\n\n		\n		\n		\n			No te pierdas este evento familiar con Ministerios Corazón a Corazón Posted by Elda Herman on Monday\, July 22\, 2019		\n		\n\n					\n									\n													Beach Day
URL:https://iglesiacorazonacorazon.com/event/congreso-de-mujeres-formando-una-guerrera/
LOCATION:Trono De Gracia\, 4av 1-85\, San Miguel Petapa\, Guatemala
ATTACH;FMTTYPE=image/jpeg:https://iglesiacorazonacorazon.com/wp-content/uploads/2019/05/congreso-mujeres-guerra.jpg
END:VEVENT
BEGIN:VEVENT
DTSTART;TZID=UTC:20180930T090000
DTEND;TZID=UTC:20180930T130000
DTSTAMP:20260423T154752
CREATED:20180907T214615Z
LAST-MODIFIED:20180907T224339Z
UID:584-1538298000-1538312400@iglesiacorazonacorazon.com
SUMMARY:Aniversario 13 | La Batalla Continua! |
DESCRIPTION:Estamos Celebrando nuestro Aniversario Número 13! Ven con nosotros a nuestro Congreso el Domingo 30 de Septiembre a partir de las 9:00 am\, tendremos alabanza\, dramas\, comida\, y lo mejor una Palabra de Dios para tu vida! Te esperamos con toda tu familia! \n\n\n				\n			\n\n		\n				\n				\n					\n\n						\n						\n							\n		\n\n			\n			\n			\n\n				\n				\n					\n\n	\n	\n\n		\n		\n		\n			No te pierdas este evento familiar con Ministerios Corazón a Corazón Posted by Elda Herman on Monday\, July 22\, 2019		\n		\n\n					\n									\n													Beach Day
URL:https://iglesiacorazonacorazon.com/event/13-aniversario-la-batalla-continua/
LOCATION:Ministerios Corazón a Corazón\, 9391 Cypress Ave\, Fontana\, CA\, United States
ATTACH;FMTTYPE=image/jpeg:https://iglesiacorazonacorazon.com/wp-content/uploads/2018/09/battalla-poster-2.jpg
END:VEVENT
BEGIN:VEVENT
DTSTART;TZID=UTC:20180923T090000
DTEND;TZID=UTC:20180923T130000
DTSTAMP:20260423T154752
CREATED:20180907T221001Z
LAST-MODIFIED:20180907T221001Z
UID:589-1537693200-1537707600@iglesiacorazonacorazon.com
SUMMARY:Fiesta de Las Naciones
DESCRIPTION:Venga a celebrar con nosotros nuestra diversidad y disfrute de la comida de varias naciones como Guatemala\, México\, Perú\, Honduras\, El Salvador y los Estados Unidos. Ven con los oídos listos para escuchar la palabra de Dios y un estómago vacío para después! Te esperaremos! \n\n\n				\n			\n\n		\n				\n				\n					\n\n						\n						\n							\n		\n\n			\n			\n			\n\n				\n				\n					\n\n	\n	\n\n		\n		\n		\n			No te pierdas este evento familiar con Ministerios Corazón a Corazón Posted by Elda Herman on Monday\, July 22\, 2019		\n		\n\n					\n									\n													Beach Day
URL:https://iglesiacorazonacorazon.com/event/fiesta-de-las-naciones/
LOCATION:Ministerios Corazón a Corazón\, 9391 Cypress Ave\, Fontana\, CA\, United States
ATTACH;FMTTYPE=image/jpeg:https://iglesiacorazonacorazon.com/wp-content/uploads/2018/09/national-flags.jpg
END:VEVENT
BEGIN:VEVENT
DTSTART;TZID=UTC:20180824T190000
DTEND;TZID=UTC:20180825T220000
DTSTAMP:20260423T154752
CREATED:20180816T195259Z
LAST-MODIFIED:20180816T195837Z
UID:578-1535137200-1535234400@iglesiacorazonacorazon.com
SUMMARY:Encuentro de Agosto
DESCRIPTION:No te pierdas este evento familiar con Ministerios Corazón a Corazón Posted by Elda Herman on Monday\, July 22\, 2019		\n		\n\n					\n									\n													Beach Day
URL:https://iglesiacorazonacorazon.com/event/encuentro-de-agosto/
LOCATION:La Hacienda\, Hesperia\, CA\, United States
CATEGORIES:Encuentros
ATTACH;FMTTYPE=image/jpeg:https://iglesiacorazonacorazon.com/wp-content/uploads/2018/01/jussara-romao-345671.jpg
END:VEVENT
BEGIN:VEVENT
DTSTART;TZID=UTC:20180819T090000
DTEND;TZID=UTC:20180819T120000
DTSTAMP:20260423T154752
CREATED:20180816T194702Z
LAST-MODIFIED:20180816T194702Z
UID:576-1534669200-1534680000@iglesiacorazonacorazon.com
SUMMARY:Splash Day
DESCRIPTION:¡Ven y disfruta nuestro día de Splash para los niños! ¡Venga vestido de hawaiano y disfrute de deliciosa comida después del servicio!\n\n\n				\n			\n\n		\n				\n				\n					\n\n						\n						\n							\n		\n\n			\n			\n			\n\n				\n				\n					\n\n	\n	\n\n		\n		\n		\n			No te pierdas este evento familiar con Ministerios Corazón a Corazón Posted by Elda Herman on Monday\, July 22\, 2019		\n		\n\n					\n									\n													Beach Day
URL:https://iglesiacorazonacorazon.com/event/splash-day/
LOCATION:Ministerios Corazón a Corazón\, 9391 Cypress Ave\, Fontana\, CA\, United States
ATTACH;FMTTYPE=image/jpeg:https://iglesiacorazonacorazon.com/wp-content/uploads/2018/08/splash-day.jpg
END:VEVENT
BEGIN:VEVENT
DTSTART;TZID=UTC:20180518T190000
DTEND;TZID=UTC:20180519T170000
DTSTAMP:20260423T154752
CREATED:20180420T030425Z
LAST-MODIFIED:20180421T191437Z
UID:569-1526670000-1526749200@iglesiacorazonacorazon.com
SUMMARY:Encuentro de jóvenes
DESCRIPTION:https://iglesiacorazonacorazon.com/wp-content/uploads/2018/04/youth-event-1.mp4\n\n\n				\n			\n\n		\n				\n				\n					\n\n						\n						\n							\n		\n\n			\n			\n			\n\n				\n				\n					\n\n	\n	\n\n		\n		\n		\n			No te pierdas este evento familiar con Ministerios Corazón a Corazón Posted by Elda Herman on Monday\, July 22\, 2019		\n		\n\n					\n									\n													Beach Day
URL:https://iglesiacorazonacorazon.com/event/encuentro-de-jovenes/
LOCATION:La Hacienda\, Hesperia\, CA\, United States
CATEGORIES:Encuentros
ATTACH;FMTTYPE=image/png:https://iglesiacorazonacorazon.com/wp-content/uploads/2018/04/30874783_1513228848806553_2127724882_n.png
END:VEVENT
BEGIN:VEVENT
DTSTART;TZID=UTC:20180512T190000
DTEND;TZID=UTC:20180512T190000
DTSTAMP:20260423T154753
CREATED:20180414T230846Z
LAST-MODIFIED:20180414T230955Z
UID:529-1526151600-1526151600@iglesiacorazonacorazon.com
SUMMARY:Una noche en Paris: Cena de Gala para el Día de la Madre
DESCRIPTION:No te pierdas este evento familiar con Ministerios Corazón a Corazón Posted by Elda Herman on Monday\, July 22\, 2019		\n		\n\n					\n									\n													Beach Day
URL:https://iglesiacorazonacorazon.com/event/una-noche-en-paris-cena-de-gala-para-el-dia-de-la-madre/
LOCATION:Ministerios Corazón a Corazón\, 9391 Cypress Ave\, Fontana\, CA\, United States
ATTACH;FMTTYPE=image/jpeg:https://iglesiacorazonacorazon.com/wp-content/uploads/2018/04/dia-de-madre.jpg
END:VEVENT
BEGIN:VEVENT
DTSTART;TZID=UTC:20180427T190000
DTEND;TZID=UTC:20180428T220000
DTSTAMP:20260423T154753
CREATED:20180414T233603Z
LAST-MODIFIED:20180414T233744Z
UID:534-1524855600-1524952800@iglesiacorazonacorazon.com
SUMMARY:Encuentro de Abril
DESCRIPTION:No te pierdas este evento familiar con Ministerios Corazón a Corazón Posted by Elda Herman on Monday\, July 22\, 2019		\n		\n\n					\n									\n													Beach Day
URL:https://iglesiacorazonacorazon.com/event/encuentro-de-abril/
LOCATION:La Hacienda\, Hesperia\, CA\, United States
ATTACH;FMTTYPE=image/jpeg:https://iglesiacorazonacorazon.com/wp-content/uploads/2018/04/encuentro-april-2018.jpg
END:VEVENT
BEGIN:VEVENT
DTSTART;TZID=UTC:20180323T190000
DTEND;TZID=UTC:20180323T190000
DTSTAMP:20260423T154753
CREATED:20180316T223613Z
LAST-MODIFIED:20180316T223719Z
UID:522-1521831600-1521831600@iglesiacorazonacorazon.com
SUMMARY:Actividad para Niños
DESCRIPTION:https://iglesiacorazonacorazon.com/wp-content/uploads/2018/03/Kid-day-March.mp4\n\n\n				\n			\n\n		\n				\n				\n					\n\n						\n						\n							\n		\n\n			\n			\n			\n\n				\n				\n					\n\n	\n	\n\n		\n		\n		\n			No te pierdas este evento familiar con Ministerios Corazón a Corazón Posted by Elda Herman on Monday\, July 22\, 2019		\n		\n\n					\n									\n													Beach Day
URL:https://iglesiacorazonacorazon.com/event/actividad-para-ninos/
LOCATION:Ministerios Corazón a Corazón\, 9391 Cypress Ave\, Fontana\, CA\, United States
ATTACH;FMTTYPE=image/jpeg:https://iglesiacorazonacorazon.com/wp-content/uploads/2018/03/kids-day-march.jpg
END:VEVENT
BEGIN:VEVENT
DTSTART;TZID=UTC:20180311T000000
DTEND;TZID=UTC:20180311T000000
DTSTAMP:20260423T154753
CREATED:20180104T212259Z
LAST-MODIFIED:20180222T204608Z
UID:421-1520726400-1520726400@iglesiacorazonacorazon.com
SUMMARY:Baby shower de Juan y Amanda
DESCRIPTION:después del servicio en la cafetería \n\n\n				\n			\n\n		\n				\n				\n					\n\n						\n						\n							\n		\n\n			\n			\n			\n\n				\n				\n					\n\n	\n	\n\n		\n		\n		\n			No te pierdas este evento familiar con Ministerios Corazón a Corazón Posted by Elda Herman on Monday\, July 22\, 2019		\n		\n\n					\n									\n													Beach Day
URL:https://iglesiacorazonacorazon.com/event/baby-shower-de-juan-y-amanda/
LOCATION:Ministerios Corazón a Corazón\, 9391 Cypress Ave\, Fontana\, CA\, United States
END:VEVENT
BEGIN:VEVENT
DTSTART;TZID=UTC:20180302T190000
DTEND;TZID=UTC:20180303T120000
DTSTAMP:20260423T154754
CREATED:20180222T202044Z
LAST-MODIFIED:20180222T202222Z
UID:515-1520017200-1520078400@iglesiacorazonacorazon.com
SUMMARY:Encuentro de Marzo
DESCRIPTION:No te pierdas este evento familiar con Ministerios Corazón a Corazón Posted by Elda Herman on Monday\, July 22\, 2019		\n		\n\n					\n									\n													Beach Day
URL:https://iglesiacorazonacorazon.com/event/encuentro-de-marzo/
LOCATION:La Hacienda\, Hesperia\, CA\, United States
CATEGORIES:Encuentros
ATTACH;FMTTYPE=image/jpeg:https://iglesiacorazonacorazon.com/wp-content/uploads/2018/02/encuentro-march-2018.jpg
END:VEVENT
BEGIN:VEVENT
DTSTART;TZID=UTC:20180216T190000
DTEND;TZID=UTC:20180216T190000
DTSTAMP:20260423T154754
CREATED:20180104T225334Z
LAST-MODIFIED:20180126T033906Z
UID:424-1518807600-1518807600@iglesiacorazonacorazon.com
SUMMARY:Día del Cariño: Cena De Amistad ♥
DESCRIPTION:No te pierdas este evento familiar con Ministerios Corazón a Corazón Posted by Elda Herman on Monday\, July 22\, 2019		\n		\n\n					\n									\n													Beach Day
URL:https://iglesiacorazonacorazon.com/event/dia-del-carino-cena-de-amistad-%e2%99%a5/
LOCATION:Ministerios Corazón a Corazón\, 9391 Cypress Ave\, Fontana\, CA\, United States
ATTACH;FMTTYPE=image/jpeg:https://iglesiacorazonacorazon.com/wp-content/uploads/2018/01/valentine.jpg
END:VEVENT
BEGIN:VEVENT
DTSTART;TZID=UTC:20180205T190000
DTEND;TZID=UTC:20180205T190000
DTSTAMP:20260423T154754
CREATED:20180104T211925Z
LAST-MODIFIED:20180104T211925Z
UID:417-1517857200-1517857200@iglesiacorazonacorazon.com
SUMMARY:Reunión de liderazgo
DESCRIPTION:No te pierdas este evento familiar con Ministerios Corazón a Corazón Posted by Elda Herman on Monday\, July 22\, 2019		\n		\n\n					\n									\n													Beach Day
URL:https://iglesiacorazonacorazon.com/event/reunion-de-liderazgo/
LOCATION:CA
CATEGORIES:Reuniones
END:VEVENT
BEGIN:VEVENT
DTSTART;TZID=UTC:20180204T000000
DTEND;TZID=UTC:20180204T000000
DTSTAMP:20260423T154754
CREATED:20180104T212153Z
LAST-MODIFIED:20180204T011320Z
UID:419-1517702400-1517702400@iglesiacorazonacorazon.com
SUMMARY:Baby Shower de Jessy y Jesus
DESCRIPTION:después del servicio en la cafetería \n\n\n				\n			\n\n		\n				\n				\n					\n\n						\n						\n							\n		\n\n			\n			\n			\n\n				\n				\n					\n\n	\n	\n\n		\n		\n		\n			No te pierdas este evento familiar con Ministerios Corazón a Corazón Posted by Elda Herman on Monday\, July 22\, 2019		\n		\n\n					\n									\n													Beach Day
URL:https://iglesiacorazonacorazon.com/event/baby-shower-de-jessy-y-jesus/
LOCATION:Ministerios Corazón a Corazón\, 9391 Cypress Ave\, Fontana\, CA\, United States
END:VEVENT
BEGIN:VEVENT
DTSTART;TZID=UTC:20180203T093000
DTEND;TZID=UTC:20180203T093000
DTSTAMP:20260423T154754
CREATED:20180104T203302Z
LAST-MODIFIED:20180126T033626Z
UID:399-1517650200-1517650200@iglesiacorazonacorazon.com
SUMMARY:Evento de Mujeres
DESCRIPTION:https://iglesiacorazonacorazon.com/wp-content/uploads/2018/01/formando-una-guerrera-version-4.mp4\n\n\n				\n			\n\n		\n				\n				\n					\n\n						\n						\n							\n		\n\n			\n			\n			\n\n				\n				\n					\n\n	\n	\n\n		\n		\n		\n			No te pierdas este evento familiar con Ministerios Corazón a Corazón Posted by Elda Herman on Monday\, July 22\, 2019		\n		\n\n					\n									\n													Beach Day
URL:https://iglesiacorazonacorazon.com/event/evento-de-mujeres/
LOCATION:Ministerios Corazón a Corazón\, 9391 Cypress Ave\, Fontana\, CA\, United States
ATTACH;FMTTYPE=image/jpeg:https://iglesiacorazonacorazon.com/wp-content/uploads/2018/01/guerreradediosipuc.jpg
END:VEVENT
BEGIN:VEVENT
DTSTART;TZID=UTC:20180129T190000
DTEND;TZID=UTC:20180129T190000
DTSTAMP:20260423T154755
CREATED:20180104T211758Z
LAST-MODIFIED:20180104T211758Z
UID:415-1517252400-1517252400@iglesiacorazonacorazon.com
SUMMARY:Reunión de equipo Ministerio de las Artes y Danza
DESCRIPTION:No te pierdas este evento familiar con Ministerios Corazón a Corazón Posted by Elda Herman on Monday\, July 22\, 2019		\n		\n\n					\n									\n													Beach Day
URL:https://iglesiacorazonacorazon.com/event/reunion-de-equipo-ministerio-de-las-artes-y-danza/
LOCATION:CA
CATEGORIES:Reuniones
END:VEVENT
BEGIN:VEVENT
DTSTART;TZID=UTC:20180127T150000
DTEND;TZID=UTC:20180127T150000
DTSTAMP:20260423T154755
CREATED:20180108T203234Z
LAST-MODIFIED:20180108T203234Z
UID:435-1517065200-1517065200@iglesiacorazonacorazon.com
SUMMARY:reunión equipo servidores
DESCRIPTION:No te pierdas este evento familiar con Ministerios Corazón a Corazón Posted by Elda Herman on Monday\, July 22\, 2019		\n		\n\n					\n									\n													Beach Day
URL:https://iglesiacorazonacorazon.com/event/reunion-equipo-servidores/
LOCATION:CA
END:VEVENT
BEGIN:VEVENT
DTSTART;TZID=UTC:20180122T190000
DTEND;TZID=UTC:20180122T190000
DTSTAMP:20260423T154755
CREATED:20180104T211600Z
LAST-MODIFIED:20180104T211600Z
UID:413-1516647600-1516647600@iglesiacorazonacorazon.com
SUMMARY:Reunión de equipo Ministerio de jovenes
DESCRIPTION:No te pierdas este evento familiar con Ministerios Corazón a Corazón Posted by Elda Herman on Monday\, July 22\, 2019		\n		\n\n					\n									\n													Beach Day
URL:https://iglesiacorazonacorazon.com/event/reunion-de-equipo-ministerio-de-jovenes/
LOCATION:CA
CATEGORIES:Reuniones
END:VEVENT
BEGIN:VEVENT
DTSTART;TZID=UTC:20180120T150000
DTEND;TZID=UTC:20180120T150000
DTSTAMP:20260423T154755
CREATED:20180108T202142Z
LAST-MODIFIED:20180108T202142Z
UID:433-1516460400-1516460400@iglesiacorazonacorazon.com
SUMMARY:Reunión equipo cocina
DESCRIPTION:No te pierdas este evento familiar con Ministerios Corazón a Corazón Posted by Elda Herman on Monday\, July 22\, 2019		\n		\n\n					\n									\n													Beach Day
URL:https://iglesiacorazonacorazon.com/event/reunion-equipo-cocina/
LOCATION:CA
END:VEVENT
BEGIN:VEVENT
DTSTART;TZID=UTC:20180115T190000
DTEND;TZID=UTC:20180115T190000
DTSTAMP:20260423T154756
CREATED:20180104T205728Z
LAST-MODIFIED:20180104T205939Z
UID:409-1516042800-1516042800@iglesiacorazonacorazon.com
SUMMARY:Reunión de equipo Ministerio de niños
DESCRIPTION:No te pierdas este evento familiar con Ministerios Corazón a Corazón Posted by Elda Herman on Monday\, July 22\, 2019		\n		\n\n					\n									\n													Beach Day
URL:https://iglesiacorazonacorazon.com/event/reunion-de-equipo-ministerio-de-ninos/
LOCATION:CA
CATEGORIES:Reuniones
END:VEVENT
BEGIN:VEVENT
DTSTART;TZID=UTC:20180113T150000
DTEND;TZID=UTC:20180113T150000
DTSTAMP:20260423T154756
CREATED:20180108T201630Z
LAST-MODIFIED:20180108T201630Z
UID:431-1515855600-1515855600@iglesiacorazonacorazon.com
SUMMARY:Reunión Grupo Alabanza
DESCRIPTION:No te pierdas este evento familiar con Ministerios Corazón a Corazón Posted by Elda Herman on Monday\, July 22\, 2019		\n		\n\n					\n									\n													Beach Day
URL:https://iglesiacorazonacorazon.com/event/reunion-grupo-alabanza/
LOCATION:CA
END:VEVENT
BEGIN:VEVENT
DTSTART;VALUE=DATE:20180108
DTEND;VALUE=DATE:20180129
DTSTAMP:20260423T154756
CREATED:20180104T194834Z
LAST-MODIFIED:20180104T212342Z
UID:390-1515369600-1517183999@iglesiacorazonacorazon.com
SUMMARY:Ayuno de Daniel
DESCRIPTION:Comienza este año bien y únete a nosotros buscando su rostro en oración y ayuno. A partir del 8 de enero empezamos el ayuno de Daniel con un verso para memorizar cada día.\nPara obtener más información\, haga clic en el link o aqui \n\n\n				\n			\n\n		\n				\n				\n					\n\n						\n						\n							\n		\n\n			\n			\n			\n\n				\n				\n					\n\n	\n	\n\n		\n		\n		\n			No te pierdas este evento familiar con Ministerios Corazón a Corazón Posted by Elda Herman on Monday\, July 22\, 2019		\n		\n\n					\n									\n													Beach Day
URL:https://iglesiacorazonacorazon.com/event/ayno-de-daniel/
LOCATION:CA
ATTACH;FMTTYPE=image/jpeg:https://iglesiacorazonacorazon.com/wp-content/uploads/2018/01/ayuno-de-daniel.jpg
END:VEVENT
BEGIN:VEVENT
DTSTART;TZID=UTC:20171231T200000
DTEND;TZID=UTC:20171231T200000
DTSTAMP:20260423T154756
CREATED:20171207T050249Z
LAST-MODIFIED:20171207T050249Z
UID:375-1514750400-1514750400@iglesiacorazonacorazon.com
SUMMARY:Servicio de Año Nuevo
DESCRIPTION:No te pierdas este evento familiar con Ministerios Corazón a Corazón Posted by Elda Herman on Monday\, July 22\, 2019		\n		\n\n					\n									\n													Beach Day
URL:https://iglesiacorazonacorazon.com/event/servicio-de-ano-nuevo/
LOCATION:Ministerios Corazón a Corazón\, 9391 Cypress Ave\, Fontana\, CA\, United States
ATTACH;FMTTYPE=image/jpeg:https://iglesiacorazonacorazon.com/wp-content/uploads/2017/12/new-year.jpg
END:VEVENT
BEGIN:VEVENT
DTSTART;TZID=UTC:20171230T100000
DTEND;TZID=UTC:20171230T100000
DTSTAMP:20260423T154756
CREATED:20171219T192847Z
LAST-MODIFIED:20171219T192847Z
UID:379-1514628000-1514628000@iglesiacorazonacorazon.com
SUMMARY:Picnic familiar
DESCRIPTION:Picnic familiar. Traiga su propio picnic para su familia o para compartir con otros. Un día para disfrutar del aire libre \n  \nhttps://iglesiacorazonacorazon.com/wp-content/uploads/2017/12/ripl-1.mp4\n\n\n				\n			\n\n		\n				\n				\n					\n\n						\n						\n							\n		\n\n			\n			\n			\n\n				\n				\n					\n\n	\n	\n\n		\n		\n		\n			No te pierdas este evento familiar con Ministerios Corazón a Corazón Posted by Elda Herman on Monday\, July 22\, 2019		\n		\n\n					\n									\n													Beach Day
URL:https://iglesiacorazonacorazon.com/event/picnic-familiar/
LOCATION:Hesperia Lake Park\, 7500 Arrowhead Lake Rd\, Hesperia\,\, CA\, 92345\, United States
ATTACH;FMTTYPE=image/jpeg:https://iglesiacorazonacorazon.com/wp-content/uploads/2017/12/picnic.jpg
END:VEVENT
BEGIN:VEVENT
DTSTART;TZID=UTC:20171224T090000
DTEND;TZID=UTC:20171224T090000
DTSTAMP:20260423T154757
CREATED:20171206T202306Z
LAST-MODIFIED:20171206T202435Z
UID:370-1514106000-1514106000@iglesiacorazonacorazon.com
SUMMARY:Servicio de Navidad
DESCRIPTION:No te pierdas este evento familiar con Ministerios Corazón a Corazón Posted by Elda Herman on Monday\, July 22\, 2019		\n		\n\n					\n									\n													Beach Day
URL:https://iglesiacorazonacorazon.com/event/servicio-de-navidad/
LOCATION:Ministerios Corazón a Corazón\, 9391 Cypress Ave\, Fontana\, CA\, United States
ATTACH;FMTTYPE=image/jpeg:https://iglesiacorazonacorazon.com/wp-content/uploads/2017/12/christmas-2017.jpg
END:VEVENT
BEGIN:VEVENT
DTSTART;VALUE=DATE:20171201
DTEND;VALUE=DATE:20171203
DTSTAMP:20260423T154757
CREATED:20171120T234042Z
LAST-MODIFIED:20171120T234212Z
UID:293-1512086400-1512259199@iglesiacorazonacorazon.com
SUMMARY:Encuentro Diciembre
DESCRIPTION:No te pierdas este evento familiar con Ministerios Corazón a Corazón Posted by Elda Herman on Monday\, July 22\, 2019		\n		\n\n					\n									\n													Beach Day
URL:https://iglesiacorazonacorazon.com/event/encuentro-2/
LOCATION:La Hacienda\, Hesperia\, CA\, United States
CATEGORIES:Encuentros
ATTACH;FMTTYPE=image/jpeg:https://iglesiacorazonacorazon.com/wp-content/uploads/2017/11/encuentro-dec.jpg
END:VEVENT
BEGIN:VEVENT
DTSTART;VALUE=DATE:20171103
DTEND;VALUE=DATE:20171105
DTSTAMP:20260423T154757
CREATED:20171020T212210Z
LAST-MODIFIED:20171021T005626Z
UID:172-1509667200-1509839999@iglesiacorazonacorazon.com
SUMMARY:Encuentro
DESCRIPTION:Encuentro de Guerra Espiritual \n\n\n				\n			\n\n		\n				\n				\n					\n\n						\n						\n							\n		\n\n			\n			\n			\n\n				\n				\n					\n\n	\n	\n\n		\n		\n		\n			No te pierdas este evento familiar con Ministerios Corazón a Corazón Posted by Elda Herman on Monday\, July 22\, 2019		\n		\n\n					\n									\n													Beach Day
URL:https://iglesiacorazonacorazon.com/event/encuentro/
LOCATION:La Hacienda\, Hesperia\, CA\, United States
END:VEVENT
END:VCALENDAR