BEGIN:VCALENDAR
VERSION:2.0
PRODID:-//Ministerios Corazón a Corazón - ECPv6.15.20//NONSGML v1.0//EN
CALSCALE:GREGORIAN
METHOD:PUBLISH
X-ORIGINAL-URL:https://iglesiacorazonacorazon.com
X-WR-CALDESC:Events for Ministerios Corazón a Corazón
REFRESH-INTERVAL;VALUE=DURATION:PT1H
X-Robots-Tag:noindex
X-PUBLISHED-TTL:PT1H
BEGIN:VTIMEZONE
TZID:UTC
BEGIN:STANDARD
TZOFFSETFROM:+0000
TZOFFSETTO:+0000
TZNAME:UTC
DTSTART:20160101T000000
END:STANDARD
END:VTIMEZONE
BEGIN:VEVENT
DTSTART;TZID=UTC:20180824T190000
DTEND;TZID=UTC:20180825T220000
DTSTAMP:20260423T224256
CREATED:20180816T195259Z
LAST-MODIFIED:20180816T195837Z
UID:578-1535137200-1535234400@iglesiacorazonacorazon.com
SUMMARY:Encuentro de Agosto
DESCRIPTION:
URL:https://iglesiacorazonacorazon.com/event/encuentro-de-agosto/
LOCATION:La Hacienda\, Hesperia\, CA\, United States
CATEGORIES:Encuentros
ATTACH;FMTTYPE=image/jpeg:https://iglesiacorazonacorazon.com/wp-content/uploads/2018/01/jussara-romao-345671.jpg
END:VEVENT
BEGIN:VEVENT
DTSTART;TZID=UTC:20180518T190000
DTEND;TZID=UTC:20180519T170000
DTSTAMP:20260423T224256
CREATED:20180420T030425Z
LAST-MODIFIED:20180421T191437Z
UID:569-1526670000-1526749200@iglesiacorazonacorazon.com
SUMMARY:Encuentro de jóvenes
DESCRIPTION:https://iglesiacorazonacorazon.com/wp-content/uploads/2018/04/youth-event-1.mp4
URL:https://iglesiacorazonacorazon.com/event/encuentro-de-jovenes/
LOCATION:La Hacienda\, Hesperia\, CA\, United States
CATEGORIES:Encuentros
ATTACH;FMTTYPE=image/png:https://iglesiacorazonacorazon.com/wp-content/uploads/2018/04/30874783_1513228848806553_2127724882_n.png
END:VEVENT
BEGIN:VEVENT
DTSTART;TZID=UTC:20180302T190000
DTEND;TZID=UTC:20180303T120000
DTSTAMP:20260423T224256
CREATED:20180222T202044Z
LAST-MODIFIED:20180222T202222Z
UID:515-1520017200-1520078400@iglesiacorazonacorazon.com
SUMMARY:Encuentro de Marzo
DESCRIPTION:
URL:https://iglesiacorazonacorazon.com/event/encuentro-de-marzo/
LOCATION:La Hacienda\, Hesperia\, CA\, United States
CATEGORIES:Encuentros
ATTACH;FMTTYPE=image/jpeg:https://iglesiacorazonacorazon.com/wp-content/uploads/2018/02/encuentro-march-2018.jpg
END:VEVENT
BEGIN:VEVENT
DTSTART;VALUE=DATE:20171201
DTEND;VALUE=DATE:20171203
DTSTAMP:20260423T224256
CREATED:20171120T234042Z
LAST-MODIFIED:20171120T234212Z
UID:293-1512086400-1512259199@iglesiacorazonacorazon.com
SUMMARY:Encuentro Diciembre
DESCRIPTION:
URL:https://iglesiacorazonacorazon.com/event/encuentro-2/
LOCATION:La Hacienda\, Hesperia\, CA\, United States
CATEGORIES:Encuentros
ATTACH;FMTTYPE=image/jpeg:https://iglesiacorazonacorazon.com/wp-content/uploads/2017/11/encuentro-dec.jpg
END:VEVENT
END:VCALENDAR